BEGIN:VCALENDAR
VERSION:2.0
PRODID:-//Tanz &amp; Therapie - Oase - ECPv6.12.0.1//NONSGML v1.0//EN
CALSCALE:GREGORIAN
METHOD:PUBLISH
X-ORIGINAL-URL:https://tanz-therapie-oase.de
X-WR-CALDESC:Veranstaltungen für Tanz &amp; Therapie - Oase
REFRESH-INTERVAL;VALUE=DURATION:PT1H
X-Robots-Tag:noindex
X-PUBLISHED-TTL:PT1H
BEGIN:VTIMEZONE
TZID:Europe/Berlin
BEGIN:DAYLIGHT
TZOFFSETFROM:+0100
TZOFFSETTO:+0200
TZNAME:CEST
DTSTART:20250330T010000
END:DAYLIGHT
BEGIN:STANDARD
TZOFFSETFROM:+0200
TZOFFSETTO:+0100
TZNAME:CET
DTSTART:20251026T010000
END:STANDARD
END:VTIMEZONE
BEGIN:VEVENT
DTSTART;TZID=Europe/Berlin:20250922T190000
DTEND;TZID=Europe/Berlin:20250922T203000
DTSTAMP:20260421T121221
CREATED:20250609T174517Z
LAST-MODIFIED:20250615T081321Z
UID:615-1758567600-1758573000@tanz-therapie-oase.de
SUMMARY:Orientalischer Tanz für Anfängerinnen Vhs-Kurs
DESCRIPTION:  \nErfahre die kreative Kraft des Beckens und die Facetten deiner Weiblichkeit. Du lernst das Alphabet des orientalischen Tanzes und wie du die Grundlagen des Bauchtanzes kombinieren kannst. Für alle Frauen geeignet\, auch und gerade dann\, wenn du denkst in diesem Bereich blockiert zu sein. \n6x ab Montag den 22.09.25\, der Kurs findet in der Tanz-Therapie-Oase statt. \n19-20.30 Uhr\, 70 Euro \nAnmeldung bitte bei der VHS Bad Griesbach \nInformation und Anmeldung: \nvhs Passau: Bad Griesbach\nIngrid von Brevern\nTel.: 08532 3300\nFax: 08532 922755\nE-Mail: info-griesbach@vhs-passau.de
URL:https://tanz-therapie-oase.de/event/orientalischer-tanz-fuer-anfaengerinnen-vhs-kurs/
CATEGORIES:Tanz-Kurs
END:VEVENT
BEGIN:VEVENT
DTSTART;TZID=Europe/Berlin:20250929T190000
DTEND;TZID=Europe/Berlin:20250929T203000
DTSTAMP:20260421T121221
CREATED:20250620T140128Z
LAST-MODIFIED:20250704T114726Z
UID:622-1759172400-1759177800@tanz-therapie-oase.de
SUMMARY:Orientalischer Tanz für Anfängerinnen Vhs-Kurs
DESCRIPTION:  \nErfahre die kreative Kraft des Beckens und die Facetten deiner Weiblichkeit. Du lernst das Alphabet des orientalischen Tanzes und wie du die Grundlagen des Bauchtanzes kombinieren kannst. Für alle Frauen geeignet\, auch und gerade dann\, wenn du denkst in diesem Bereich blockiert zu sein. \n6x ab Montag den 22.09.25\, der Kurs findet in der Tanz-Therapie-Oase statt. \n19-20.30 Uhr\, 70 Euro \nAnmeldung bitte bei der VHS Bad Griesbach \nInformation und Anmeldung: \nvhs Passau: Bad Griesbach\nIngrid von Brevern\nTel.: 08532 3300\nFax: 08532 922755\nE-Mail: info-griesbach@vhs-passau.de
URL:https://tanz-therapie-oase.de/event/orientalischer-tanz-fuer-anfaengerinnen-vhs-kurs-3/
CATEGORIES:Tanz-Kurs
END:VEVENT
END:VCALENDAR